BEGIN:VCALENDAR
VERSION:2.0
PRODID:-//Langeais - ECPv5.14.1//NONSGML v1.0//EN
CALSCALE:GREGORIAN
METHOD:PUBLISH
X-WR-CALNAME:Langeais
X-ORIGINAL-URL:https://langeais.fr
X-WR-CALDESC:évènements pour Langeais
BEGIN:VTIMEZONE
TZID:Europe/Paris
BEGIN:DAYLIGHT
TZOFFSETFROM:+0100
TZOFFSETTO:+0200
TZNAME:CEST
DTSTART:20230326T010000
END:DAYLIGHT
BEGIN:STANDARD
TZOFFSETFROM:+0200
TZOFFSETTO:+0100
TZNAME:CET
DTSTART:20231029T010000
END:STANDARD
END:VTIMEZONE
BEGIN:VEVENT
DTSTART;TZID=Europe/Paris:20231118T000000
DTEND;TZID=Europe/Paris:20231217T000000
DTSTAMP:20260420T091332
CREATED:20231030T101117Z
LAST-MODIFIED:20231211T150242Z
UID:4704-1700265600-1702771200@langeais.fr
SUMMARY:EXPOSITION //  E Loesch & A langea
DESCRIPTION:EXPOSITION\nElisabeth Loesch et Audrey Lange\nDu 18 novembre au 17 décembre \nVernissage de l’exposition : vendredi 17 novembre à 19h  \n  \n\nDeux univers offerts.\nCelui de l’artiste Audrey Lange\, photographe où il flotte une atmosphère à la fois ludique\, acidulée\, sombre et inquiétante. Le pays des contes de fées flirte avec le film noir. \nSon travail s’associera à l’artiste Elisabeth Loesch\, qui crée des panneaux décoratifs figuratifs ou abstraits\, en utilisant la technique de la marqueterie ancienne sur panneau bois. Ses personnages de femmes\, ses papillons ou encore ses versions plus abstraites prennent forme sur des cartes\, des panneaux décoratifs\, des tableaux d’un seul tenant ou en triptyque\, des paravents\, des sets de table…La découpe du papier et la diversité des graphies proposées par les typographes\, sont autant de moyens pour obtenir les rendus d’une peinture. L’intégration de couleurs\, l’application de feuilles de cuivre ou d’or sont des techniques complémentaires dont l’utilisation permet d’élargir les propositions picturales. \n\nExposition du 18/11au 17/12\nV. S. D. 14h à 18h\nEspace culturel La Douve\nEntrée libre \n02 47 96 54 39
URL:https://langeais.fr/event/exposition-e-loesch-a-langea/
LOCATION:Espace culturel La Douve\, Place de la Douve\, LANGEAIS\, 37130\, France
CATEGORIES:Exposition
ATTACH;FMTTYPE=image/jpeg:https://langeais.fr/wp-content/uploads/2023/10/A3-affiche.jpg
END:VEVENT
END:VCALENDAR