BEGIN:VCALENDAR
VERSION:2.0
PRODID:-//Langeais - ECPv5.14.1//NONSGML v1.0//EN
CALSCALE:GREGORIAN
METHOD:PUBLISH
X-WR-CALNAME:Langeais
X-ORIGINAL-URL:https://langeais.fr
X-WR-CALDESC:évènements pour Langeais
BEGIN:VTIMEZONE
TZID:Europe/Paris
BEGIN:DAYLIGHT
TZOFFSETFROM:+0100
TZOFFSETTO:+0200
TZNAME:CEST
DTSTART:20230326T010000
END:DAYLIGHT
BEGIN:STANDARD
TZOFFSETFROM:+0200
TZOFFSETTO:+0100
TZNAME:CET
DTSTART:20231029T010000
END:STANDARD
END:VTIMEZONE
BEGIN:VEVENT
DTSTART;TZID=Europe/Paris:20231117T190000
DTEND;TZID=Europe/Paris:20231117T190000
DTSTAMP:20260420T055558
CREATED:20231030T101228Z
LAST-MODIFIED:20231030T101228Z
UID:4710-1700247600-1700247600@langeais.fr
SUMMARY:VERNISSAGE // exposition E Loesch & A Lange
DESCRIPTION:
URL:https://langeais.fr/event/vernissage-exposition-e-loesch-a-lange/
LOCATION:Espace culturel La Douve\, Place de la Douve\, LANGEAIS\, 37130\, France
CATEGORIES:Exposition
ATTACH;FMTTYPE=image/jpeg:https://langeais.fr/wp-content/uploads/2023/10/A3-affiche.jpg
END:VEVENT
END:VCALENDAR